BEGIN:VCALENDAR
VERSION:2.0
PRODID:-//ChamberMaster//Event Calendar 2.0//EN
METHOD:PUBLISH
X-PUBLISHED-TTL:P3D
REFRESH-INTERVAL:P3D
CALSCALE:GREGORIAN
BEGIN:VEVENT
DTSTART:20241115T163000Z
DTEND:20241115T180000Z
X-MICROSOFT-CDO-ALLDAYEVENT:FALSE
SUMMARY:Ribbon Cutting Kemah Palms Recovery Outpatient Soft Opening
DESCRIPTION:We are thrilled to announce the expansion of Kemah Palms Recovery with the opening of our new outpatient location. We continue our commitment to providing hope\, healing\, and compassionate care\, this new facility will enable us to extend our reach and serve even more individuals and families in need.\n\nJoin Us for a Ribbon Cutting Ceremony\n\nWitness this significant moment as we celebrate our mission to save lives and support families on their journey to recovery.\n\n?? Date: Friday\, November 15th\, 2024\n\n? Time: 10:30 AM\n\n?? Location: 880 Lawrence Road\, Suite 186\, League City\, TX 77573\n\nYour support is vital to fostering a community built on understanding\, compassion\, and healing. We warmly invite you to join us at this celebration and witness the opening of our new outpatient center.\n\n \n\nRSVP Link:\n\nhttps://partiful.com/e/8jipTSZm6jH5RGH2NRAR
X-ALT-DESC;FMTTYPE=text/html:<div><span style="color:inherit\; font-family:times new roman\,times\,serif\,serif\,emojifont\; font-size:inherit">We are thrilled to announce the expansion of Kemah Palms Recovery with the opening of our new outpatient location. We continue our commitment to providing hope\, healing\, and compassionate care\, this new facility will enable us to extend our reach and serve even more individuals and families in need.</span></div>\n\n<div><strong>Join Us for a Ribbon Cutting Ceremony</strong><br />\nWitness this significant moment as we celebrate our mission to save lives and support families on their journey to recovery.</div>\n\n<div><strong>??&nbsp\;Date:</strong>&nbsp\;Friday\, November 15th\, 2024<br />\n<strong>? Time:</strong>&nbsp\;10:30 AM<br />\n<strong>?? Location:</strong>&nbsp\;880 Lawrence Road\, Suite 186\, League City\, TX 77573</div>\n\n<div>Your support is vital to fostering a community built on understanding\, compassion\, and healing. We warmly invite you to join us at this celebration and witness the opening of our new outpatient center.<br />\n&nbsp\;</div>\n\n<div>RSVP Link:</div>\n\n<div><a href="https://partiful.com/e/8jipTSZm6jH5RGH2NRAR" id="LPlnkOWA629c69bf-5077-ffdc-d89b-1ce74517614c" style="border: 0px\; font: inherit\; margin: 0px\; padding: 0px\; vertical-align: baseline\;" title="https://partiful.com/e/8jipTSZm6jH5RGH2NRAR">https://partiful.com/e/8jipTSZm6jH5RGH2NRAR</a></div>\n
LOCATION:880 Lawrence Road\, Suite 186\, League City\, TX\, 77565
UID:e.1301.30416
SEQUENCE:3
DTSTAMP:20260425T232838Z
URL:https://business.pearlandchamber.org/events/details/ribbon-cutting-kemah-palms-recovery-outpatient-soft-opening-30416
END:VEVENT

END:VCALENDAR
